BEGIN:VCALENDAR
VERSION:2.0
PRODID:-//mrlib.org//NONSGML kigkonsult.se iCalcreator 2.30.10//
CALSCALE:GREGORIAN
METHOD:PUBLISH
UID:5e4c40e9-ef9a-416c-b81f-34eacad0a401
X-WR-CALDESC:Children of all ages and their caregivers will enjoy books\, s
 ongs\, and crafts that encourage early literacy skill development.
X-WR-RELCALID:0cbc532455b31a6a7abd0ee2ae65362f
X-WR-TIMEZONE:America/New_York
BEGIN:VTIMEZONE
TZID:America/New_York
BEGIN:STANDARD
TZNAME:EST
DTSTART:20251102T020000
TZOFFSETFROM:-0400
TZOFFSETTO:-0500
RDATE:20261101T020000
RDATE:20271107T020000
END:STANDARD
BEGIN:DAYLIGHT
TZNAME:EDT
DTSTART:20260308T020000
TZOFFSETFROM:-0500
TZOFFSETTO:-0400
RDATE:20270314T020000
RDATE:20280312T020000
END:DAYLIGHT
END:VTIMEZONE
BEGIN:VEVENT
UID:97f52156-ec54-4807-a8ac-1440d52cc4d8
DTSTAMP:20260419T181726Z
DESCRIPTION:Children of all ages and their caregivers will enjoy books\, so
 ngs\, and crafts that encourage early literacy skill development.
DTSTART;TZID=America/New_York:20260929T110000
DTEND;TZID=America/New_York:20260929T113000
LOCATION:Shenandoah Community Library\, 418 S. Third Street\, Shenandoah\, 
 VA 22849 US
SUMMARY:Fantastic Family Fun @Shenandoah Community Library
END:VEVENT
END:VCALENDAR
