BEGIN:VCALENDAR
VERSION:2.0
PRODID:-//mrlib.org//NONSGML kigkonsult.se iCalcreator 2.30.10//
CALSCALE:GREGORIAN
METHOD:PUBLISH
UID:c23632a4-21c3-41a0-ad29-2ec4deb1b5ff
X-WR-CALDESC:2-3 year olds and their caregivers are invited to join us for 
 a fun filled story time complete with books\, nursery rhymes\, songs\, and
  crafts designed to strengthen early literacy development. \n
X-WR-RELCALID:5a65bc7705e6118c50786fb6e1503174
X-WR-TIMEZONE:America/New_York
BEGIN:VTIMEZONE
TZID:America/New_York
BEGIN:STANDARD
TZNAME:EST
DTSTART:20251102T020000
TZOFFSETFROM:-0400
TZOFFSETTO:-0500
RDATE:20261101T020000
RDATE:20271107T020000
END:STANDARD
BEGIN:DAYLIGHT
TZNAME:EDT
DTSTART:20260308T020000
TZOFFSETFROM:-0500
TZOFFSETTO:-0400
RDATE:20270314T020000
RDATE:20280312T020000
END:DAYLIGHT
END:VTIMEZONE
BEGIN:VEVENT
UID:b32528d4-c836-475b-84bf-7b5af07ad63e
DTSTAMP:20260419T201248Z
DESCRIPTION:2-3 year olds and their caregivers are invited to join us for a
  fun filled story time complete with books\, nursery rhymes\, songs\, and 
 crafts designed to strengthen early literacy development. \n
DTSTART;TZID=America/New_York:20261001T103000
DTEND;TZID=America/New_York:20261001T110000
LOCATION:Page Public Library\, 100 Zerkel Street\, Luray\, VA 22835 US
SUMMARY:Tremendous Toddlers @ Page Public Library
END:VEVENT
END:VCALENDAR
