BEGIN:VCALENDAR
VERSION:2.0
PRODID:-//mrlib.org//NONSGML kigkonsult.se iCalcreator 2.30.10//
CALSCALE:GREGORIAN
METHOD:PUBLISH
UID:6fa26c66-c191-4984-b016-1b3f54fdf54d
X-WR-CALDESC:Children of all ages and their caregivers participate in a spe
 cial story time filled with stories\, music\, movement\, conversation\, le
 arning\, and fun! \n
X-WR-RELCALID:6cadcf8f36e1eec8c4cf2d2e4d37c763
X-WR-TIMEZONE:America/New_York
BEGIN:VTIMEZONE
TZID:America/New_York
BEGIN:STANDARD
TZNAME:EST
DTSTART:20251102T020000
TZOFFSETFROM:-0400
TZOFFSETTO:-0500
RDATE:20261101T020000
RDATE:20271107T020000
END:STANDARD
BEGIN:DAYLIGHT
TZNAME:EDT
DTSTART:20260308T020000
TZOFFSETFROM:-0500
TZOFFSETTO:-0400
RDATE:20270314T020000
RDATE:20280312T020000
END:DAYLIGHT
END:VTIMEZONE
BEGIN:VEVENT
UID:065710e2-47ab-4dd0-9925-39b8c7d4b6f8
DTSTAMP:20260419T201251Z
DESCRIPTION:Children of all ages and their caregivers participate in a spec
 ial story time filled with stories\, music\, movement\, conversation\, lea
 rning\, and fun! \n
DTSTART;TZID=America/New_York:20261007T100000
DTEND;TZID=America/New_York:20261007T103000
LOCATION:Grottoes Branch Library\, 601 Dogwood Avenue\, Grottoes\, VA 24441
  US
SUMMARY:CircleTime @Grottoes Branch Library
END:VEVENT
END:VCALENDAR
