BEGIN:VCALENDAR
VERSION:2.0
PRODID:-//mrlib.org//NONSGML kigkonsult.se iCalcreator 2.30.10//
CALSCALE:GREGORIAN
METHOD:PUBLISH
UID:e1a34988-e8c7-45a9-abb3-4d5a99dd1e51
X-WR-CALDESC:All MRL locations are on a Story Time planning break. We'll se
 e you the week of October 26th!
X-WR-RELCALID:c155da569e0662386449dde99e34bdeb
X-WR-TIMEZONE:America/New_York
BEGIN:VTIMEZONE
TZID:America/New_York
BEGIN:STANDARD
TZNAME:EST
DTSTART:20251102T020000
TZOFFSETFROM:-0400
TZOFFSETTO:-0500
RDATE:20261101T020000
RDATE:20271107T020000
END:STANDARD
BEGIN:DAYLIGHT
TZNAME:EDT
DTSTART:20260308T020000
TZOFFSETFROM:-0500
TZOFFSETTO:-0400
RDATE:20270314T020000
RDATE:20280312T020000
END:DAYLIGHT
END:VTIMEZONE
BEGIN:VEVENT
UID:35aa8d79-4b18-4cea-a2ea-d5c59bd66686
DTSTAMP:20260419T195552Z
DESCRIPTION:All MRL locations are on a Story Time planning break. We'll see
  you the week of October 26th!
DTSTART;TZID=America/New_York:20261012T060000
DTEND;TZID=America/New_York:20261024T060001
LOCATION:
SUMMARY:STORY TIME BREAK
END:VEVENT
END:VCALENDAR
