BEGIN:VCALENDAR
VERSION:2.0
PRODID:-//mrlib.org//NONSGML kigkonsult.se iCalcreator 2.30.10//
CALSCALE:GREGORIAN
METHOD:PUBLISH
UID:d29b75e6-61f1-476a-8852-39de36cdd67b
X-WR-CALDESC:Let your curiosity go wild while conducting exciting science e
 xperiments! Super Science is geared towards kindergarten through 5th grade
  youth.
X-WR-RELCALID:6c8df8fb023230c8b796b60cf6b70a44
X-WR-TIMEZONE:America/New_York
BEGIN:VTIMEZONE
TZID:America/New_York
BEGIN:STANDARD
TZNAME:EST
DTSTART:20251102T020000
TZOFFSETFROM:-0400
TZOFFSETTO:-0500
RDATE:20261101T020000
RDATE:20271107T020000
END:STANDARD
BEGIN:DAYLIGHT
TZNAME:EDT
DTSTART:20260308T020000
TZOFFSETFROM:-0500
TZOFFSETTO:-0400
RDATE:20270314T020000
RDATE:20280312T020000
END:DAYLIGHT
END:VTIMEZONE
BEGIN:VEVENT
UID:a19d62f9-5697-4560-afc2-57f970ba0bb4
DTSTAMP:20260419T200546Z
DESCRIPTION:Let your curiosity go wild while conducting exciting science ex
 periments! Super Science is geared towards kindergarten through 5th grade 
 youth.
DTSTART;TZID=America/New_York:20261015T160000
DTEND;TZID=America/New_York:20261015T170000
LOCATION:174 S. Main St.\, Harrisonburg\, VA 22801 US
SUMMARY:Super Science @ Central Library
END:VEVENT
END:VCALENDAR
