BEGIN:VCALENDAR
VERSION:2.0
PRODID:-//mrlib.org//NONSGML kigkonsult.se iCalcreator 2.30.10//
CALSCALE:GREGORIAN
METHOD:PUBLISH
UID:ae9280be-7b55-4f18-b4a8-ae8c364e3bb9
X-WR-CALDESC:Kids can join us every third Saturday of the month for Crafty 
 Kids! Use your imagination to create a different craft each month.
X-WR-RELCALID:04fb8374a2ed825bcadf0d1df2bdb6ac
X-WR-TIMEZONE:America/New_York
BEGIN:VTIMEZONE
TZID:America/New_York
BEGIN:STANDARD
TZNAME:EST
DTSTART:20251102T020000
TZOFFSETFROM:-0400
TZOFFSETTO:-0500
RDATE:20261101T020000
RDATE:20271107T020000
END:STANDARD
BEGIN:DAYLIGHT
TZNAME:EDT
DTSTART:20260308T020000
TZOFFSETFROM:-0500
TZOFFSETTO:-0400
RDATE:20270314T020000
RDATE:20280312T020000
END:DAYLIGHT
END:VTIMEZONE
BEGIN:VEVENT
UID:b1b448a0-3671-4381-9042-fd408dca8a42
DTSTAMP:20260419T201119Z
DESCRIPTION:Kids can join us every third Saturday of the month for Crafty K
 ids! Use your imagination to create a different craft each month.
DTSTART;TZID=America/New_York:20261017T110000
DTEND;TZID=America/New_York:20261017T120000
LOCATION:North River Library\, 118 Mt. Crawford Avenue\, Bridgewater\, VA 2
 2812 US
SUMMARY:Crafty Kids @North River Library
END:VEVENT
END:VCALENDAR
