BEGIN:VCALENDAR
VERSION:2.0
PRODID:-//mrlib.org//NONSGML kigkonsult.se iCalcreator 2.30.10//
CALSCALE:GREGORIAN
METHOD:PUBLISH
UID:19cada04-36f1-4e8e-a635-8d58abc1735e
X-WR-CALDESC:K-5 kids can join us on the 4th Thursday of every month for Cr
 afty Kids! Use your imagination to create a different craft at each progra
 m.
X-WR-RELCALID:65390b7fe7a8331abe99d2b156cd71b5
X-WR-TIMEZONE:America/New_York
BEGIN:VTIMEZONE
TZID:America/New_York
BEGIN:STANDARD
TZNAME:EST
DTSTART:20251102T020000
TZOFFSETFROM:-0400
TZOFFSETTO:-0500
RDATE:20261101T020000
RDATE:20271107T020000
END:STANDARD
BEGIN:DAYLIGHT
TZNAME:EDT
DTSTART:20260308T020000
TZOFFSETFROM:-0500
TZOFFSETTO:-0400
RDATE:20270314T020000
RDATE:20280312T020000
END:DAYLIGHT
END:VTIMEZONE
BEGIN:VEVENT
UID:dbc0fcc5-c1bf-418c-a28e-d1e7c29e1284
DTSTAMP:20260419T201605Z
DESCRIPTION:K-5 kids can join us on the 4th Thursday of every month for Cra
 fty Kids! Use your imagination to create a different craft at each program
 .
DTSTART;TZID=America/New_York:20261022T160000
DTEND;TZID=America/New_York:20261022T170000
LOCATION:Grottoes Branch Library\, 601 Dogwood Avenue\, Grottoes\, VA 24441
  US
SUMMARY:Crafty Kids @Grottoes Branch Library
END:VEVENT
END:VCALENDAR
