BEGIN:VCALENDAR
VERSION:2.0
PRODID:-//mrlib.org//NONSGML kigkonsult.se iCalcreator 2.30.10//
CALSCALE:GREGORIAN
METHOD:PUBLISH
UID:34e9e654-008e-4a11-b33e-4557ac2d81ef
X-WR-CALDESC:Stop by for a sweet treat at the Grottoes Branch Library!
X-WR-RELCALID:ac2e81eefdafadb752c4fd5e9ac895fc
X-WR-TIMEZONE:America/New_York
BEGIN:VTIMEZONE
TZID:America/New_York
BEGIN:STANDARD
TZNAME:EST
DTSTART:20251102T020000
TZOFFSETFROM:-0400
TZOFFSETTO:-0500
RDATE:20261101T020000
RDATE:20271107T020000
END:STANDARD
BEGIN:DAYLIGHT
TZNAME:EDT
DTSTART:20260308T020000
TZOFFSETFROM:-0500
TZOFFSETTO:-0400
RDATE:20270314T020000
RDATE:20280312T020000
END:DAYLIGHT
END:VTIMEZONE
BEGIN:VEVENT
UID:211bcda1-3e4b-4986-9980-881d76f3d5b1
DTSTAMP:20260419T201606Z
DESCRIPTION:Stop by for a sweet treat at the Grottoes Branch Library!
DTSTART;TZID=America/New_York:20261031T180000
DTEND;TZID=America/New_York:20261031T200000
LOCATION:601 Dogwood Ave\, Grottoes\, VA 24441 US
SUMMARY:Library Trick or Treat @ Grottoes Branch Library
END:VEVENT
END:VCALENDAR
