BEGIN:VCALENDAR
VERSION:2.0
PRODID:-//mrlib.org//NONSGML kigkonsult.se iCalcreator 2.30.10//
CALSCALE:GREGORIAN
METHOD:PUBLISH
UID:63010530-46f8-4f81-8e4b-3ff7adedb391
X-WR-CALDESC:All MRL branches are closed for Staff Training Day. Thank you 
 for your understanding!
X-WR-RELCALID:5e09b5e3fa9f176b139f1e6ff8d03a1d
X-WR-TIMEZONE:America/New_York
BEGIN:VTIMEZONE
TZID:America/New_York
BEGIN:STANDARD
TZNAME:EST
DTSTART:20261101T020000
TZOFFSETFROM:-0400
TZOFFSETTO:-0500
RDATE:20271107T020000
END:STANDARD
BEGIN:DAYLIGHT
TZNAME:EDT
DTSTART:20260308T020000
TZOFFSETFROM:-0500
TZOFFSETTO:-0400
RDATE:20270314T020000
RDATE:20280312T020000
END:DAYLIGHT
END:VTIMEZONE
BEGIN:VEVENT
UID:4ccb3c55-78a7-448a-b65a-73f0f97db6f8
DTSTAMP:20260419T214730Z
DESCRIPTION:All MRL branches are closed for Staff Training Day. Thank you f
 or your understanding!
DTSTART;TZID=America/New_York:20261106T060000
DTEND;TZID=America/New_York:20261106T060001
LOCATION:
SUMMARY:ALL MRL BRANCHES CLOSED FOR STAFF TRAINING DAY
END:VEVENT
END:VCALENDAR
