BEGIN:VCALENDAR
VERSION:2.0
PRODID:-//mrlib.org//NONSGML kigkonsult.se iCalcreator 2.30.10//
CALSCALE:GREGORIAN
METHOD:PUBLISH
UID:222c5a56-aefd-45a8-94d9-b085a904966d
X-WR-CALDESC:Dogs are wonderful listeners and love to hear stories! Dogs 2 
 Read 2 is a great chance for kids in grades K-5 to practice their reading 
 skills with some wonderful and well-behaved pups. \n\n*All Dogs 2 Read 2 p
 ups are trained and certified through the Alliance of Therapy Dogs*
X-WR-RELCALID:0c0c519b7f110db16f43319c22549fea
X-WR-TIMEZONE:America/New_York
BEGIN:VTIMEZONE
TZID:America/New_York
BEGIN:STANDARD
TZNAME:EST
DTSTART:20261101T020000
TZOFFSETFROM:-0400
TZOFFSETTO:-0500
RDATE:20271107T020000
END:STANDARD
BEGIN:DAYLIGHT
TZNAME:EDT
DTSTART:20260308T020000
TZOFFSETFROM:-0500
TZOFFSETTO:-0400
RDATE:20270314T020000
RDATE:20280312T020000
END:DAYLIGHT
END:VTIMEZONE
BEGIN:VEVENT
UID:7e14da7a-03ef-45da-9e8c-e5e649000ee3
DTSTAMP:20260419T215358Z
DESCRIPTION:Dogs are wonderful listeners and love to hear stories! Dogs 2 R
 ead 2 is a great chance for kids in grades K-5 to practice their reading s
 kills with some wonderful and well-behaved pups. \n\n*All Dogs 2 Read 2 pu
 ps are trained and certified through the Alliance of Therapy Dogs*
DTSTART;TZID=America/New_York:20261112T163000
DTEND;TZID=America/New_York:20261112T173000
LOCATION:Central Library\, 174 S. Main Street\, Harrisonburg\, VA 22801 US
SUMMARY:Dogs 2 Read 2 @Central Library
END:VEVENT
END:VCALENDAR
