BEGIN:VCALENDAR
VERSION:2.0
PRODID:-//mrlib.org//NONSGML kigkonsult.se iCalcreator 2.30.10//
CALSCALE:GREGORIAN
METHOD:PUBLISH
UID:961bc388-d4a3-4ced-bf3f-778d4454a2db
X-WR-CALDESC:Dogs are wonderful listeners and love to hear stories being to
 ld to them! Dogs 2 Read 2 is a great chance for kids in grades K-5 to prac
 tice their reading skills with a wonderful and well-behaved pup. Come meet
  Kenna\, a certified therapy dog through the Alliance for Therapy Dogs. Ke
 nna is a familiar\, friendly face at many local schools and loves to have 
 stories read to her!
X-WR-RELCALID:9a95bd5c3c1abf432ff8c18f4c1bfecb
X-WR-TIMEZONE:America/New_York
BEGIN:VTIMEZONE
TZID:America/New_York
BEGIN:STANDARD
TZNAME:EST
DTSTART:20261101T020000
TZOFFSETFROM:-0400
TZOFFSETTO:-0500
RDATE:20271107T020000
END:STANDARD
BEGIN:DAYLIGHT
TZNAME:EDT
DTSTART:20260308T020000
TZOFFSETFROM:-0500
TZOFFSETTO:-0400
RDATE:20270314T020000
RDATE:20280312T020000
END:DAYLIGHT
END:VTIMEZONE
BEGIN:VEVENT
UID:ccef8ae2-b660-4333-b3f3-8e1a42f9c6b0
DTSTAMP:20260419T214829Z
DESCRIPTION:Dogs are wonderful listeners and love to hear stories being tol
 d to them! Dogs 2 Read 2 is a great chance for kids in grades K-5 to pract
 ice their reading skills with a wonderful and well-behaved pup. Come meet 
 Kenna\, a certified therapy dog through the Alliance for Therapy Dogs. Ken
 na is a familiar\, friendly face at many local schools and loves to have s
 tories read to her!
DTSTART;TZID=America/New_York:20261114T110000
DTEND;TZID=America/New_York:20261114T120000
LOCATION:Village Library\, 175 N. Main Street\, Broadway\, VA 22815 US
SUMMARY:Dogs 2 Read 2 @ Village Library
END:VEVENT
END:VCALENDAR
