BEGIN:VCALENDAR
VERSION:2.0
PRODID:-//mrlib.org//NONSGML kigkonsult.se iCalcreator 2.30.10//
CALSCALE:GREGORIAN
METHOD:PUBLISH
UID:06908852-dc7d-44e9-86af-93eaccc6ce9e
X-WR-CALDESC:Children of all ages and their caregivers will enjoy books\, s
 ongs\, and crafts that encourage early literacy skill development!
X-WR-RELCALID:fee7b8ae52d316af3c6b829980ec739c
X-WR-TIMEZONE:America/New_York
BEGIN:VTIMEZONE
TZID:America/New_York
BEGIN:STANDARD
TZNAME:EST
DTSTART:20261101T020000
TZOFFSETFROM:-0400
TZOFFSETTO:-0500
RDATE:20271107T020000
END:STANDARD
BEGIN:DAYLIGHT
TZNAME:EDT
DTSTART:20260308T020000
TZOFFSETFROM:-0500
TZOFFSETTO:-0400
RDATE:20270314T020000
RDATE:20280312T020000
END:DAYLIGHT
END:VTIMEZONE
BEGIN:VEVENT
UID:c0c7fded-2294-424b-b621-6d8047e3e890
DTSTAMP:20260419T215851Z
DESCRIPTION:Children of all ages and their caregivers will enjoy books\, so
 ngs\, and crafts that encourage early literacy skill development!
DTSTART;TZID=America/New_York:20261116T103000
DTEND;TZID=America/New_York:20261116T110000
LOCATION:Elkton Community Library\, 106 North Terrace Avenue\, Elkton\, VA 
 22827 US
SUMMARY:Fantastic Family Fun @Elkton Community Library
END:VEVENT
END:VCALENDAR
