BEGIN:VCALENDAR
VERSION:2.0
PRODID:-//mrlib.org//NONSGML kigkonsult.se iCalcreator 2.30.10//
CALSCALE:GREGORIAN
METHOD:PUBLISH
UID:4a84b740-72f0-4682-9f1c-f26049c6fae7
X-WR-CALDESC:Children of all ages and their caregivers participate in a spe
 cial story time filled with stories\, music\, movement\, conversation\, le
 arning\, and fun! \n
X-WR-RELCALID:75c309cd393b66d219328f09fe02e1b3
X-WR-TIMEZONE:America/New_York
BEGIN:VTIMEZONE
TZID:America/New_York
BEGIN:STANDARD
TZNAME:EST
DTSTART:20261101T020000
TZOFFSETFROM:-0400
TZOFFSETTO:-0500
RDATE:20271107T020000
END:STANDARD
BEGIN:DAYLIGHT
TZNAME:EDT
DTSTART:20260308T020000
TZOFFSETFROM:-0500
TZOFFSETTO:-0400
RDATE:20270314T020000
RDATE:20280312T020000
END:DAYLIGHT
END:VTIMEZONE
BEGIN:VEVENT
UID:cde37306-2d49-4121-ba34-77c89120f128
DTSTAMP:20260419T220054Z
DESCRIPTION:Children of all ages and their caregivers participate in a spec
 ial story time filled with stories\, music\, movement\, conversation\, lea
 rning\, and fun! \n
DTSTART;TZID=America/New_York:20261118T100000
DTEND;TZID=America/New_York:20261118T103000
LOCATION:Grottoes Branch Library\, 601 Dogwood Avenue\, Grottoes\, VA 24441
  US
SUMMARY:CircleTime @Grottoes Branch Library
END:VEVENT
END:VCALENDAR
