BEGIN:VCALENDAR
VERSION:2.0
PRODID:-//mrlib.org//NONSGML kigkonsult.se iCalcreator 2.30.10//
CALSCALE:GREGORIAN
METHOD:PUBLISH
UID:d27b4818-aa7e-4eee-9e7f-bf1cac4dd7cb
X-WR-CALDESC:Children of all ages and their caregivers will enjoy books\, s
 ongs\, and crafts that encourage early literacy skill development.
X-WR-RELCALID:77244c9b0ed099a06aa699aba689ef81
X-WR-TIMEZONE:America/New_York
BEGIN:VTIMEZONE
TZID:America/New_York
BEGIN:STANDARD
TZNAME:EST
DTSTART:20261101T020000
TZOFFSETFROM:-0400
TZOFFSETTO:-0500
RDATE:20271107T020000
END:STANDARD
BEGIN:DAYLIGHT
TZNAME:EDT
DTSTART:20260308T020000
TZOFFSETFROM:-0500
TZOFFSETTO:-0400
RDATE:20270314T020000
RDATE:20280312T020000
END:DAYLIGHT
END:VTIMEZONE
BEGIN:VEVENT
UID:ab753ff6-362f-462a-ab61-cb56eeb0f05f
DTSTAMP:20260419T215434Z
DESCRIPTION:Children of all ages and their caregivers will enjoy books\, so
 ngs\, and crafts that encourage early literacy skill development.
DTSTART;TZID=America/New_York:20261119T100000
DTEND;TZID=America/New_York:20261119T103000
LOCATION:Village Library\, 175 N. Main Street\, Broadway\, VA 22815 US
SUMMARY:Fantastic Family Fun @ Village Library
END:VEVENT
END:VCALENDAR
