BEGIN:VCALENDAR
VERSION:2.0
PRODID:-//mrlib.org//NONSGML kigkonsult.se iCalcreator 2.30.10//
CALSCALE:GREGORIAN
METHOD:PUBLISH
UID:bc8d1716-fd2b-4ba5-a0f0-35ce24bb1ba4
X-WR-CALDESC:All MRL branches close at 5 PM in observance of the Thanksgivi
 ng holiday.
X-WR-RELCALID:99a5530136ff090c0d3547e86abb1482
X-WR-TIMEZONE:America/New_York
BEGIN:VTIMEZONE
TZID:America/New_York
BEGIN:STANDARD
TZNAME:EST
DTSTART:20261101T020000
TZOFFSETFROM:-0400
TZOFFSETTO:-0500
RDATE:20271107T020000
END:STANDARD
BEGIN:DAYLIGHT
TZNAME:EDT
DTSTART:20260308T020000
TZOFFSETFROM:-0500
TZOFFSETTO:-0400
RDATE:20270314T020000
RDATE:20280312T020000
END:DAYLIGHT
END:VTIMEZONE
BEGIN:VEVENT
UID:ad4d4340-957b-4a49-8fba-ca98039a0283
DTSTAMP:20260419T214646Z
DESCRIPTION:All MRL branches close at 5 PM in observance of the Thanksgivin
 g holiday.
DTSTART;TZID=America/New_York:20261125T060000
DTEND;TZID=America/New_York:20261125T060001
LOCATION:
SUMMARY:ALL MRL BRANCHES CLOSING AT 5 PM
END:VEVENT
END:VCALENDAR
