BEGIN:VCALENDAR
VERSION:2.0
PRODID:-//mrlib.org//NONSGML kigkonsult.se iCalcreator 2.30.10//
CALSCALE:GREGORIAN
METHOD:PUBLISH
UID:e9a0810b-8a89-41fb-9604-2ed5b8e58cf1
X-WR-CALDESC:K-5 kids can join us on the 4th Thursday of every month for Cr
 afty Kids! Use your imagination to create a different craft at each progra
 m.
X-WR-RELCALID:8786920e969700bcae7068dd9ef06f24
X-WR-TIMEZONE:America/New_York
BEGIN:VTIMEZONE
TZID:America/New_York
BEGIN:STANDARD
TZNAME:EST
DTSTART:20261101T020000
TZOFFSETFROM:-0400
TZOFFSETTO:-0500
RDATE:20271107T020000
END:STANDARD
BEGIN:DAYLIGHT
TZNAME:EDT
DTSTART:20260308T020000
TZOFFSETFROM:-0500
TZOFFSETTO:-0400
RDATE:20270314T020000
RDATE:20280312T020000
END:DAYLIGHT
END:VTIMEZONE
BEGIN:VEVENT
UID:f1c33315-80e7-4326-a1e1-d3a60c94afc1
DTSTAMP:20260419T220014Z
DESCRIPTION:K-5 kids can join us on the 4th Thursday of every month for Cra
 fty Kids! Use your imagination to create a different craft at each program
 .
DTSTART;TZID=America/New_York:20261126T160000
DTEND;TZID=America/New_York:20261126T170000
LOCATION:Grottoes Branch Library\, 601 Dogwood Avenue\, Grottoes\, VA 24441
  US
SUMMARY:Crafty Kids @Grottoes Branch Library
END:VEVENT
END:VCALENDAR
