BEGIN:VCALENDAR
VERSION:2.0
PRODID:-//mrlib.org//NONSGML kigkonsult.se iCalcreator 2.30.10//
CALSCALE:GREGORIAN
METHOD:PUBLISH
UID:225c1cf9-99e3-480d-960d-b962f08e7802
X-WR-CALDESC:All MRL branches are closed in observance of the Thanksgiving 
 holiday.
X-WR-RELCALID:1b2e4f1607e9ee84c67b83af612afcfa
X-WR-TIMEZONE:America/New_York
BEGIN:VTIMEZONE
TZID:America/New_York
BEGIN:STANDARD
TZNAME:EST
DTSTART:20261101T020000
TZOFFSETFROM:-0400
TZOFFSETTO:-0500
RDATE:20271107T020000
END:STANDARD
BEGIN:DAYLIGHT
TZNAME:EDT
DTSTART:20260308T020000
TZOFFSETFROM:-0500
TZOFFSETTO:-0400
RDATE:20270314T020000
RDATE:20280312T020000
END:DAYLIGHT
END:VTIMEZONE
BEGIN:VEVENT
UID:aa8cb7b8-c6d0-412a-b016-ba618cb5cf1a
DTSTAMP:20260419T214729Z
DESCRIPTION:All MRL branches are closed in observance of the Thanksgiving h
 oliday.
DTSTART;TZID=America/New_York:20261126T060000
DTEND;TZID=America/New_York:20261127T060001
LOCATION:
SUMMARY:ALL MRL BRANCHES CLOSED FOR THANKSGIVING
END:VEVENT
END:VCALENDAR
