BEGIN:VCALENDAR
VERSION:2.0
PRODID:-//mrlib.org//NONSGML kigkonsult.se iCalcreator 2.30.10//
CALSCALE:GREGORIAN
METHOD:PUBLISH
UID:229159ba-1217-41f4-a339-dd4bdc49a8ac
X-WR-CALDESC:Let your creativity loose with craft projects using a variety 
 of materials! Crafty Kids is geared towards children from kindergarten thr
 ough 5th grade.
X-WR-RELCALID:4c616649db3a7dd85d8dd76b90049b53
X-WR-TIMEZONE:America/New_York
BEGIN:VTIMEZONE
TZID:America/New_York
BEGIN:STANDARD
TZNAME:EST
DTSTART:20261101T020000
TZOFFSETFROM:-0400
TZOFFSETTO:-0500
RDATE:20271107T020000
END:STANDARD
BEGIN:DAYLIGHT
TZNAME:EDT
DTSTART:20260308T020000
TZOFFSETFROM:-0500
TZOFFSETTO:-0400
RDATE:20270314T020000
RDATE:20280312T020000
END:DAYLIGHT
END:VTIMEZONE
BEGIN:VEVENT
UID:c7099c82-d3f4-42ec-8c97-b3279d380b1c
DTSTAMP:20260419T235626Z
DESCRIPTION:Let your creativity loose with craft projects using a variety o
 f materials! Crafty Kids is geared towards children from kindergarten thro
 ugh 5th grade.
DTSTART;TZID=America/New_York:20261203T160000
DTEND;TZID=America/New_York:20261203T170000
LOCATION:Central Library\, 174 S. Main St.\, Harrisonburg\, VA 22801 US
SUMMARY:Crafty Kids @ Central Library
END:VEVENT
END:VCALENDAR
