BEGIN:VCALENDAR
VERSION:2.0
PRODID:-//mrlib.org//NONSGML kigkonsult.se iCalcreator 2.30.10//
CALSCALE:GREGORIAN
METHOD:PUBLISH
UID:221a6975-bfdd-496e-a69e-90a21b06ef06
X-WR-CALDESC:Stop by Central Library's Book Sale and directly support our n
 onprofit mission! \n\nThursday: 10AM-6PM\nFriday: Noon - 3PM\nSaturday: No
 on- 3PM\n\nAdult Books $1 each\; children's titles $.25 each - cash and cr
 edit card accepted.
X-WR-RELCALID:323d16e0db934f7472c5174c3f37af9c
X-WR-TIMEZONE:America/New_York
BEGIN:VTIMEZONE
TZID:America/New_York
BEGIN:STANDARD
TZNAME:EST
DTSTART:20261101T020000
TZOFFSETFROM:-0400
TZOFFSETTO:-0500
RDATE:20271107T020000
END:STANDARD
BEGIN:DAYLIGHT
TZNAME:EDT
DTSTART:20260308T020000
TZOFFSETFROM:-0500
TZOFFSETTO:-0400
RDATE:20270314T020000
RDATE:20280312T020000
END:DAYLIGHT
END:VTIMEZONE
BEGIN:VEVENT
UID:e8043a2c-1b74-43c5-bd1a-c4194be730e0
DTSTAMP:20260419T235255Z
DESCRIPTION:Stop by Central Library's Book Sale and directly support our no
 nprofit mission! \n\nThursday: 10AM-6PM\nFriday: Noon - 3PM\nSaturday: Noo
 n- 3PM\n\nAdult Books $1 each\; children's titles $.25 each - cash and cre
 dit card accepted.
DTSTART;TZID=America/New_York:20261203T060000
DTEND;TZID=America/New_York:20261205T060001
LOCATION:Central Library\, 174 S. Main Street\, Harrisonburg\, VA 22801 US
SUMMARY:Book Sale @Central Library
END:VEVENT
END:VCALENDAR
