BEGIN:VCALENDAR
VERSION:2.0
PRODID:-//mrlib.org//NONSGML kigkonsult.se iCalcreator 2.30.10//
CALSCALE:GREGORIAN
METHOD:PUBLISH
UID:ded4a27c-debc-4b10-841c-76262ce7f5a4
X-WR-CALDESC:Join the fun as we set up a variety of board games for all age
 s.
X-WR-RELCALID:a40aa1808a0008f2da089684aea5847a
X-WR-TIMEZONE:America/New_York
BEGIN:VTIMEZONE
TZID:America/New_York
BEGIN:STANDARD
TZNAME:EST
DTSTART:20261101T020000
TZOFFSETFROM:-0400
TZOFFSETTO:-0500
RDATE:20271107T020000
END:STANDARD
BEGIN:DAYLIGHT
TZNAME:EDT
DTSTART:20260308T020000
TZOFFSETFROM:-0500
TZOFFSETTO:-0400
RDATE:20270314T020000
RDATE:20280312T020000
END:DAYLIGHT
END:VTIMEZONE
BEGIN:VEVENT
UID:05571457-cd15-4e63-a0a0-da9b58609a2a
DTSTAMP:20260420T000327Z
DESCRIPTION:Join the fun as we set up a variety of board games for all ages
 .
DTSTART;TZID=America/New_York:20261210T160000
DTEND;TZID=America/New_York:20261210T170000
LOCATION:601 Dogwood Ave\, Grottoes\, VA 24441 US
SUMMARY:Board Games @ Grottoes Branch Library
END:VEVENT
END:VCALENDAR
