BEGIN:VCALENDAR
VERSION:2.0
PRODID:-//mrlib.org//NONSGML kigkonsult.se iCalcreator 2.30.10//
CALSCALE:GREGORIAN
METHOD:PUBLISH
UID:5efd7f28-df1d-48ef-a1e4-07ee43d8bc0d
X-WR-CALDESC:All MRL locations are on a Story Time planning break. We'll se
 e you the week of January 4th!
X-WR-RELCALID:bb164249178d93c112c771d1a07484c3
X-WR-TIMEZONE:America/New_York
BEGIN:VTIMEZONE
TZID:America/New_York
BEGIN:STANDARD
TZNAME:EST
DTSTART:20261101T020000
TZOFFSETFROM:-0400
TZOFFSETTO:-0500
RDATE:20271107T020000
END:STANDARD
BEGIN:DAYLIGHT
TZNAME:EDT
DTSTART:20260308T020000
TZOFFSETFROM:-0500
TZOFFSETTO:-0400
RDATE:20270314T020000
RDATE:20280312T020000
END:DAYLIGHT
END:VTIMEZONE
BEGIN:VEVENT
UID:4efef14f-598c-435a-8462-a047a8ad9ed7
DTSTAMP:20260419T235257Z
DESCRIPTION:All MRL locations are on a Story Time planning break. We'll see
  you the week of January 4th!
DTSTART;TZID=America/New_York:20261221T060000
DTEND;TZID=America/New_York:20270102T060001
LOCATION:
SUMMARY:STORY TIME BREAK
END:VEVENT
END:VCALENDAR
