BEGIN:VCALENDAR
VERSION:2.0
PRODID:-//mrlib.org//NONSGML kigkonsult.se iCalcreator 2.30.10//
CALSCALE:GREGORIAN
METHOD:PUBLISH
UID:248aae2c-74f6-4517-9f9d-aca3af8f9381
X-WR-CALDESC:People of all ages are invited to drop in to Page Public Libra
 ry every Tuesday for puzzle fun with other jigsaw junkies!
X-WR-RELCALID:a246863f372525ef7434fd3cc3466632
X-WR-TIMEZONE:America/New_York
BEGIN:VTIMEZONE
TZID:America/New_York
BEGIN:STANDARD
TZNAME:EST
DTSTART:20261101T020000
TZOFFSETFROM:-0400
TZOFFSETTO:-0500
RDATE:20271107T020000
END:STANDARD
BEGIN:DAYLIGHT
TZNAME:EDT
DTSTART:20260308T020000
TZOFFSETFROM:-0500
TZOFFSETTO:-0400
RDATE:20270314T020000
RDATE:20280312T020000
END:DAYLIGHT
END:VTIMEZONE
BEGIN:VEVENT
UID:16df2bd7-cd22-4fc4-8c16-9086095d42be
DTSTAMP:20260419T235628Z
DESCRIPTION:People of all ages are invited to drop in to Page Public Librar
 y every Tuesday for puzzle fun with other jigsaw junkies!
DTSTART;TZID=America/New_York:20261222T160000
DTEND;TZID=America/New_York:20261222T170000
LOCATION:Page Public Library\, 100 Zerkel Street\, Luray\, VA 22835 US
SUMMARY:Jigsaw Junkies @Page Public Library
END:VEVENT
END:VCALENDAR
