BEGIN:VCALENDAR
VERSION:2.0
PRODID:-//mrlib.org//NONSGML kigkonsult.se iCalcreator 2.30.10//
CALSCALE:GREGORIAN
METHOD:PUBLISH
UID:5ec18f46-783e-4171-9130-8a2e36c0e984
X-WR-CALDESC:All MRL branches close at 5 PM today in observance of the Chri
 stmas holiday.
X-WR-RELCALID:902b1728c4c67c72c938535b479a1413
X-WR-TIMEZONE:America/New_York
BEGIN:VTIMEZONE
TZID:America/New_York
BEGIN:STANDARD
TZNAME:EST
DTSTART:20261101T020000
TZOFFSETFROM:-0400
TZOFFSETTO:-0500
RDATE:20271107T020000
END:STANDARD
BEGIN:DAYLIGHT
TZNAME:EDT
DTSTART:20260308T020000
TZOFFSETFROM:-0500
TZOFFSETTO:-0400
RDATE:20270314T020000
RDATE:20280312T020000
END:DAYLIGHT
END:VTIMEZONE
BEGIN:VEVENT
UID:672fa1eb-11c0-4f7c-893d-9dd31daaffd3
DTSTAMP:20260419T235333Z
DESCRIPTION:All MRL branches close at 5 PM today in observance of the Chris
 tmas holiday.
DTSTART;TZID=America/New_York:20261223T060000
DTEND;TZID=America/New_York:20261223T060001
LOCATION:
SUMMARY:ALL MRL BRANCHES CLOSING AT 5 PM
END:VEVENT
END:VCALENDAR
