BEGIN:VCALENDAR
VERSION:2.0
PRODID:-//mrlib.org//NONSGML kigkonsult.se iCalcreator 2.30.10//
CALSCALE:GREGORIAN
METHOD:PUBLISH
UID:6ba6ea0e-c2ed-466f-99f9-b292ddf24727
X-WR-CALDESC:All MRL branches are closed in observance of the Christmas hol
 iday.
X-WR-RELCALID:2f3531949a1016ceca5c2df90b8dda9e
X-WR-TIMEZONE:America/New_York
BEGIN:VTIMEZONE
TZID:America/New_York
BEGIN:STANDARD
TZNAME:EST
DTSTART:20261101T020000
TZOFFSETFROM:-0400
TZOFFSETTO:-0500
RDATE:20271107T020000
END:STANDARD
BEGIN:DAYLIGHT
TZNAME:EDT
DTSTART:20260308T020000
TZOFFSETFROM:-0500
TZOFFSETTO:-0400
RDATE:20270314T020000
RDATE:20280312T020000
END:DAYLIGHT
END:VTIMEZONE
BEGIN:VEVENT
UID:e87220f4-3d24-424c-a98c-369b0a786dee
DTSTAMP:20260419T235338Z
DESCRIPTION:All MRL branches are closed in observance of the Christmas holi
 day.
DTSTART;TZID=America/New_York:20261224T060000
DTEND;TZID=America/New_York:20261225T060001
LOCATION:
SUMMARY:ALL MRL BRANCHES CLOSED FOR THE HOLIDAYS
END:VEVENT
END:VCALENDAR
