BEGIN:VCALENDAR
VERSION:2.0
PRODID:-//mrlib.org//NONSGML kigkonsult.se iCalcreator 2.30.10//
CALSCALE:GREGORIAN
METHOD:PUBLISH
UID:63c894e1-136b-4c9f-b1b3-82e92fe8e3c7
X-WR-CALDESC:All MRL branches are closing at 5PM for the New Year's holiday
 .
X-WR-RELCALID:6e21c7dbd5becf0b57407f8980d91f4f
X-WR-TIMEZONE:America/New_York
BEGIN:VTIMEZONE
TZID:America/New_York
BEGIN:STANDARD
TZNAME:EST
DTSTART:20261101T020000
TZOFFSETFROM:-0400
TZOFFSETTO:-0500
RDATE:20271107T020000
END:STANDARD
BEGIN:DAYLIGHT
TZNAME:EDT
DTSTART:20260308T020000
TZOFFSETFROM:-0500
TZOFFSETTO:-0400
RDATE:20270314T020000
RDATE:20280312T020000
END:DAYLIGHT
END:VTIMEZONE
BEGIN:VEVENT
UID:3b24cc89-c5b7-4571-abba-1dfcf6b192bb
DTSTAMP:20260419T235255Z
DESCRIPTION:All MRL branches are closing at 5PM for the New Year's holiday.
DTSTART;TZID=America/New_York:20261231T060000
DTEND;TZID=America/New_York:20261231T060001
LOCATION:
SUMMARY:ALL MRL BRANCHES CLOSING AT 5 PM
END:VEVENT
END:VCALENDAR
