BEGIN:VCALENDAR
VERSION:2.0
PRODID:-//mrlib.org//NONSGML kigkonsult.se iCalcreator 2.30.10//
CALSCALE:GREGORIAN
METHOD:PUBLISH
UID:ab77ce65-3cbf-4f3d-a7bf-105897b5e09e
X-WR-CALDESC:Dogs are wonderful listeners and love to hear stories! Dogs 2 
 Read 2 is a great chance for kids in grades K-5 to practice their reading 
 skills with a wonderful and well-behaved pup. Join us every 1st Saturday o
 f the month to hang out with Tux\, a certified therapy dog!*\n\n*All Dogs 
 2 Read 2 pups are trained and certified through the Alliance of Therapy Do
 gs
X-WR-RELCALID:0c0c7601fa05ef3c5a21fd5315502f63
X-WR-TIMEZONE:America/New_York
BEGIN:VTIMEZONE
TZID:America/New_York
BEGIN:STANDARD
TZNAME:EST
DTSTART:20261101T020000
TZOFFSETFROM:-0400
TZOFFSETTO:-0500
RDATE:20271107T020000
END:STANDARD
BEGIN:DAYLIGHT
TZNAME:EDT
DTSTART:20260308T020000
TZOFFSETFROM:-0500
TZOFFSETTO:-0400
RDATE:20270314T020000
RDATE:20280312T020000
END:DAYLIGHT
END:VTIMEZONE
BEGIN:VEVENT
UID:439ed563-39c4-490a-907a-479e4e0fad01
DTSTAMP:20260420T015108Z
DESCRIPTION:Dogs are wonderful listeners and love to hear stories! Dogs 2 R
 ead 2 is a great chance for kids in grades K-5 to practice their reading s
 kills with a wonderful and well-behaved pup. Join us every 1st Saturday of
  the month to hang out with Tux\, a certified therapy dog!*\n\n*All Dogs 2
  Read 2 pups are trained and certified through the Alliance of Therapy Dog
 s
DTSTART;TZID=America/New_York:20270102T110000
DTEND;TZID=America/New_York:20270102T120000
LOCATION:Page Public Library\, 100 Zerkel Street\, Luray\, VA 22835 US
SUMMARY:Dogs 2 Read 2 @Page Public Library
END:VEVENT
END:VCALENDAR
