BEGIN:VCALENDAR
VERSION:2.0
PRODID:-//mrlib.org//NONSGML kigkonsult.se iCalcreator 2.30.10//
CALSCALE:GREGORIAN
METHOD:PUBLISH
UID:37e8d3fa-8697-48d6-a32e-0e5fc2a408c7
X-WR-CALDESC:3-5 year olds and their caregivers are invited to hear stories
 \, sing songs\, and participate in fun activities that promote school read
 iness.
X-WR-RELCALID:d30f703c257719d9ef032b85481fbe2f
X-WR-TIMEZONE:America/New_York
BEGIN:VTIMEZONE
TZID:America/New_York
BEGIN:STANDARD
TZNAME:EST
DTSTART:20261101T020000
TZOFFSETFROM:-0400
TZOFFSETTO:-0500
RDATE:20271107T020000
END:STANDARD
BEGIN:DAYLIGHT
TZNAME:EDT
DTSTART:20260308T020000
TZOFFSETFROM:-0500
TZOFFSETTO:-0400
RDATE:20270314T020000
RDATE:20280312T020000
END:DAYLIGHT
END:VTIMEZONE
BEGIN:VEVENT
UID:dbbe0e63-c22e-4570-9ff3-ab315024b23b
DTSTAMP:20260420T015320Z
DESCRIPTION:3-5 year olds and their caregivers are invited to hear stories\
 , sing songs\, and participate in fun activities that promote school readi
 ness.
DTSTART;TZID=America/New_York:20270113T110000
DTEND;TZID=America/New_York:20270113T113000
LOCATION:Central Library\, 174 S. Main St.\, Harrisonburg\, VA 22801 US
SUMMARY:Playful Preschoolers @ Central Library
END:VEVENT
END:VCALENDAR
