BEGIN:VCALENDAR
VERSION:2.0
PRODID:-//mrlib.org//NONSGML kigkonsult.se iCalcreator 2.30.10//
CALSCALE:GREGORIAN
METHOD:PUBLISH
UID:ee56ed19-9385-49ab-8321-3f0857d88879
X-WR-CALDESC:Let your curiosity go wild while conducting exciting science e
 xperiments! Super Science is geared towards kindergarten through 5th grade
  youth.
X-WR-RELCALID:8332fbff0b350762ee875860e33f1180
X-WR-TIMEZONE:America/New_York
BEGIN:VTIMEZONE
TZID:America/New_York
BEGIN:STANDARD
TZNAME:EST
DTSTART:20261101T020000
TZOFFSETFROM:-0400
TZOFFSETTO:-0500
RDATE:20271107T020000
END:STANDARD
BEGIN:DAYLIGHT
TZNAME:EDT
DTSTART:20260308T020000
TZOFFSETFROM:-0500
TZOFFSETTO:-0400
RDATE:20270314T020000
RDATE:20280312T020000
END:DAYLIGHT
END:VTIMEZONE
BEGIN:VEVENT
UID:70cbed5f-11d3-4211-a374-a88643a5949d
DTSTAMP:20260420T014752Z
DESCRIPTION:Let your curiosity go wild while conducting exciting science ex
 periments! Super Science is geared towards kindergarten through 5th grade 
 youth.
DTSTART;TZID=America/New_York:20270121T160000
DTEND;TZID=America/New_York:20270121T170000
LOCATION:174 S. Main St.\, Harrisonburg\, VA 22801 US
SUMMARY:Super Science @ Central Library
END:VEVENT
END:VCALENDAR
