BEGIN:VCALENDAR
VERSION:2.0
PRODID:-//mrlib.org//NONSGML kigkonsult.se iCalcreator 2.30.10//
CALSCALE:GREGORIAN
METHOD:PUBLISH
UID:faca5b8e-3baf-43ba-bea3-f3159bd675f7
X-WR-CALDESC:People of all ages and skill levels can gather to work on thei
 r latest craft projects every 4th Tuesday of the month! Share your creatio
 ns and make new friends!
X-WR-RELCALID:8f413b6905dc62033dd06ee5114e0dad
X-WR-TIMEZONE:America/New_York
BEGIN:VTIMEZONE
TZID:America/New_York
BEGIN:STANDARD
TZNAME:EST
DTSTART:20261101T020000
TZOFFSETFROM:-0400
TZOFFSETTO:-0500
RDATE:20271107T020000
END:STANDARD
BEGIN:DAYLIGHT
TZNAME:EDT
DTSTART:20260308T020000
TZOFFSETFROM:-0500
TZOFFSETTO:-0400
RDATE:20270314T020000
RDATE:20280312T020000
END:DAYLIGHT
END:VTIMEZONE
BEGIN:VEVENT
UID:776b870a-6237-4e16-bae7-a55e66a67eac
DTSTAMP:20260420T014937Z
DESCRIPTION:People of all ages and skill levels can gather to work on their
  latest craft projects every 4th Tuesday of the month! Share your creation
 s and make new friends!
DTSTART;TZID=America/New_York:20270126T153000
DTEND;TZID=America/New_York:20270126T163000
LOCATION:North River Library\, 118 Mt. Crawford Avenue\, Bridgewater\, VA 2
 2812 US
SUMMARY:Crafting Together @North River Library
END:VEVENT
END:VCALENDAR
