BEGIN:VCALENDAR
VERSION:2.0
PRODID:-//mrlib.org//NONSGML kigkonsult.se iCalcreator 2.30.10//
CALSCALE:GREGORIAN
METHOD:PUBLISH
UID:d54271bf-1354-48d3-a941-4ad5ec82a2df
X-WR-CALDESC:Drop by the library and build with Keva Planks. Explore what y
 ou can build and create with these fun\, simple planks! Keva Lab is geared
  towards kindergarten through 5th grade youth.
X-WR-RELCALID:8e73f82af7eab95c9db8f1a05bda3faa
X-WR-TIMEZONE:America/New_York
BEGIN:VTIMEZONE
TZID:America/New_York
BEGIN:STANDARD
TZNAME:EST
DTSTART:20261101T020000
TZOFFSETFROM:-0400
TZOFFSETTO:-0500
RDATE:20271107T020000
END:STANDARD
BEGIN:DAYLIGHT
TZNAME:EDT
DTSTART:20260308T020000
TZOFFSETFROM:-0500
TZOFFSETTO:-0400
RDATE:20270314T020000
RDATE:20280312T020000
END:DAYLIGHT
END:VTIMEZONE
BEGIN:VEVENT
UID:12f48087-f2f5-450e-9ce9-397c56b366f7
DTSTAMP:20260420T014929Z
DESCRIPTION:Drop by the library and build with Keva Planks. Explore what yo
 u can build and create with these fun\, simple planks! Keva Lab is geared 
 towards kindergarten through 5th grade youth.
DTSTART;TZID=America/New_York:20270128T160000
DTEND;TZID=America/New_York:20270128T170000
LOCATION:100 Zerkel Street\, Luray\, VA 22835 US
SUMMARY:Keva Lab @ Page Public Library
END:VEVENT
END:VCALENDAR
