BEGIN:VCALENDAR
VERSION:2.0
PRODID:-//mrlib.org//NONSGML kigkonsult.se iCalcreator 2.30.10//
CALSCALE:GREGORIAN
METHOD:PUBLISH
UID:9e7e2717-d6fc-4988-bed1-b038bd399f31
X-WR-CALDESC:Let your creativity loose with craft projects using a variety 
 of materials! Crafty Kids is geared towards children from kindergarten thr
 ough 5th grade.
X-WR-RELCALID:c845eed4ad1b0ac716baeae9637c2eda
X-WR-TIMEZONE:America/New_York
BEGIN:VTIMEZONE
TZID:America/New_York
BEGIN:STANDARD
TZNAME:EST
DTSTART:20261101T020000
TZOFFSETFROM:-0400
TZOFFSETTO:-0500
RDATE:20271107T020000
END:STANDARD
BEGIN:DAYLIGHT
TZNAME:EDT
DTSTART:20260308T020000
TZOFFSETFROM:-0500
TZOFFSETTO:-0400
RDATE:20270314T020000
RDATE:20280312T020000
END:DAYLIGHT
END:VTIMEZONE
BEGIN:VEVENT
UID:639c72cf-c5db-4263-a3e9-1dd867be1c5a
DTSTAMP:20260420T034630Z
DESCRIPTION:Let your creativity loose with craft projects using a variety o
 f materials! Crafty Kids is geared towards children from kindergarten thro
 ugh 5th grade.
DTSTART;TZID=America/New_York:20270204T160000
DTEND;TZID=America/New_York:20270204T170000
LOCATION:Central Library\, 174 S. Main St.\, Harrisonburg\, VA 22801 US
SUMMARY:Crafty Kids @ Central Library
END:VEVENT
END:VCALENDAR
