BEGIN:VCALENDAR
VERSION:2.0
PRODID:-//mrlib.org//NONSGML kigkonsult.se iCalcreator 2.30.10//
CALSCALE:GREGORIAN
METHOD:PUBLISH
UID:f3ac96ca-018c-47d2-9fe5-b2ac12fde50e
X-WR-CALDESC:Shake out your sillies at this story time for ages 0-2 years. 
 Come explore new books and learn simple songs and nursey rhymes to enhance
  early literacy development.
X-WR-RELCALID:822d4d5779c5068f805ff57a640ca51f
X-WR-TIMEZONE:America/New_York
BEGIN:VTIMEZONE
TZID:America/New_York
BEGIN:STANDARD
TZNAME:EST
DTSTART:20261101T020000
TZOFFSETFROM:-0400
TZOFFSETTO:-0500
RDATE:20271107T020000
END:STANDARD
BEGIN:DAYLIGHT
TZNAME:EDT
DTSTART:20260308T020000
TZOFFSETFROM:-0500
TZOFFSETTO:-0400
RDATE:20270314T020000
RDATE:20280312T020000
END:DAYLIGHT
END:VTIMEZONE
BEGIN:VEVENT
UID:c41665f3-8ac2-4302-8cf1-6569ad23cc51
DTSTAMP:20260420T035336Z
DESCRIPTION:Shake out your sillies at this story time for ages 0-2 years. C
 ome explore new books and learn simple songs and nursey rhymes to enhance 
 early literacy development.
DTSTART;TZID=America/New_York:20270209T100000
DTEND;TZID=America/New_York:20270209T103000
LOCATION:Central Library\, 174 S. Main St.\, Harrisonburg\, VA 22801 US
SUMMARY:Babies\, Books\, and Movement @ Central Library
END:VEVENT
END:VCALENDAR
