BEGIN:VCALENDAR
VERSION:2.0
PRODID:-//mrlib.org//NONSGML kigkonsult.se iCalcreator 2.30.10//
CALSCALE:GREGORIAN
METHOD:PUBLISH
UID:c6d95a55-86c3-4303-ae87-f58453d5733e
X-WR-CALDESC:People of all ages are invited to drop in to Page Public Libra
 ry every Tuesday for puzzle fun with other jigsaw junkies!
X-WR-RELCALID:222c562634b8fb61eebe011e103ce356
X-WR-TIMEZONE:America/New_York
BEGIN:VTIMEZONE
TZID:America/New_York
BEGIN:STANDARD
TZNAME:EST
DTSTART:20261101T020000
TZOFFSETFROM:-0400
TZOFFSETTO:-0500
RDATE:20271107T020000
END:STANDARD
BEGIN:DAYLIGHT
TZNAME:EDT
DTSTART:20260308T020000
TZOFFSETFROM:-0500
TZOFFSETTO:-0400
RDATE:20270314T020000
RDATE:20280312T020000
END:DAYLIGHT
END:VTIMEZONE
BEGIN:VEVENT
UID:4d335c5a-b06b-4483-859b-2b0686055c9f
DTSTAMP:20260420T034910Z
DESCRIPTION:People of all ages are invited to drop in to Page Public Librar
 y every Tuesday for puzzle fun with other jigsaw junkies!
DTSTART;TZID=America/New_York:20270209T160000
DTEND;TZID=America/New_York:20270209T170000
LOCATION:Page Public Library\, 100 Zerkel Street\, Luray\, VA 22835 US
SUMMARY:Jigsaw Junkies @Page Public Library
END:VEVENT
END:VCALENDAR
