BEGIN:VCALENDAR
VERSION:2.0
PRODID:-//mrlib.org//NONSGML kigkonsult.se iCalcreator 2.30.10//
CALSCALE:GREGORIAN
METHOD:PUBLISH
UID:eeb717c9-1d3c-4e66-acd3-050ffd0ef06e
X-WR-CALDESC:Children of all ages and their caregivers will enjoy books\, s
 ongs\, and crafts that encourage early literacy skill development!
X-WR-RELCALID:66318533085dc8ca511b009f84c1d55a
X-WR-TIMEZONE:America/New_York
BEGIN:VTIMEZONE
TZID:America/New_York
BEGIN:STANDARD
TZNAME:EST
DTSTART:20261101T020000
TZOFFSETFROM:-0400
TZOFFSETTO:-0500
RDATE:20271107T020000
END:STANDARD
BEGIN:DAYLIGHT
TZNAME:EDT
DTSTART:20260308T020000
TZOFFSETFROM:-0500
TZOFFSETTO:-0400
RDATE:20270314T020000
RDATE:20280312T020000
END:DAYLIGHT
END:VTIMEZONE
BEGIN:VEVENT
UID:22bf7518-6ab9-4b42-825d-e8808c466c5e
DTSTAMP:20260420T041012Z
DESCRIPTION:Children of all ages and their caregivers will enjoy books\, so
 ngs\, and crafts that encourage early literacy skill development!
DTSTART;TZID=America/New_York:20270215T103000
DTEND;TZID=America/New_York:20270215T110000
LOCATION:Elkton Community Library\, 106 North Terrace Avenue\, Elkton\, VA 
 22827 US
SUMMARY:Fantastic Family Fun @Elkton Community Library
END:VEVENT
END:VCALENDAR
