BEGIN:VCALENDAR
VERSION:2.0
PRODID:-//mrlib.org//NONSGML kigkonsult.se iCalcreator 2.30.10//
CALSCALE:GREGORIAN
METHOD:PUBLISH
UID:6c27cd5d-5dc4-49fc-a4f6-68058b6a0099
X-WR-CALDESC:People of all ages are invited to drop in to Page Public Libra
 ry every Tuesday for puzzle fun with other jigsaw junkies!
X-WR-RELCALID:b6473d9519f2c09de5d0293555e63b8e
X-WR-TIMEZONE:America/New_York
BEGIN:VTIMEZONE
TZID:America/New_York
BEGIN:STANDARD
TZNAME:EST
DTSTART:20261101T020000
TZOFFSETFROM:-0400
TZOFFSETTO:-0500
RDATE:20271107T020000
END:STANDARD
BEGIN:DAYLIGHT
TZNAME:EDT
DTSTART:20260308T020000
TZOFFSETFROM:-0500
TZOFFSETTO:-0400
RDATE:20270314T020000
RDATE:20280312T020000
END:DAYLIGHT
END:VTIMEZONE
BEGIN:VEVENT
UID:7c36c9c1-139a-4676-890f-af0ab0a8dc5e
DTSTAMP:20260420T040216Z
DESCRIPTION:People of all ages are invited to drop in to Page Public Librar
 y every Tuesday for puzzle fun with other jigsaw junkies!
DTSTART;TZID=America/New_York:20270223T160000
DTEND;TZID=America/New_York:20270223T170000
LOCATION:Page Public Library\, 100 Zerkel Street\, Luray\, VA 22835 US
SUMMARY:Jigsaw Junkies @Page Public Library
END:VEVENT
END:VCALENDAR
