BEGIN:VCALENDAR
VERSION:2.0
PRODID:-//mrlib.org//NONSGML kigkonsult.se iCalcreator 2.30.10//
CALSCALE:GREGORIAN
METHOD:PUBLISH
UID:a8f410f4-8536-452e-9c5a-7f1baec48536
X-WR-CALDESC:Dogs are wonderful listeners and love to hear stories! Dogs 2 
 Read 2 is a great chance for kids in grades K-5 to practice their reading 
 skills with Timber\, a wonderful and well-behaved pup. \n\n*All Dogs 2 Rea
 d 2 pups are trained and certified through the Alliance of Therapy Dogs*
X-WR-RELCALID:8c7a9dbf8d2f9d72563aeb6abc16334e
X-WR-TIMEZONE:America/New_York
BEGIN:VTIMEZONE
TZID:America/New_York
BEGIN:STANDARD
TZNAME:EST
DTSTART:20261101T020000
TZOFFSETFROM:-0400
TZOFFSETTO:-0500
RDATE:20271107T020000
END:STANDARD
BEGIN:DAYLIGHT
TZNAME:EDT
DTSTART:20260308T020000
TZOFFSETFROM:-0500
TZOFFSETTO:-0400
RDATE:20270314T020000
RDATE:20280312T020000
END:DAYLIGHT
END:VTIMEZONE
BEGIN:VEVENT
UID:2d405afc-3635-489c-b10a-8896c2d6e347
DTSTAMP:20260420T040549Z
DESCRIPTION:Dogs are wonderful listeners and love to hear stories! Dogs 2 R
 ead 2 is a great chance for kids in grades K-5 to practice their reading s
 kills with Timber\, a wonderful and well-behaved pup. \n\n*All Dogs 2 Read
  2 pups are trained and certified through the Alliance of Therapy Dogs*
DTSTART;TZID=America/New_York:20270224T160000
DTEND;TZID=America/New_York:20270224T170000
LOCATION:Elkton Community Library\, 106 N. Terrace Avenue\, Elkton\, VA 228
 27 US
SUMMARY:Dogs 2 Read 2 @Elkton Community Library
END:VEVENT
END:VCALENDAR
