BEGIN:VCALENDAR
VERSION:2.0
PRODID:-//mrlib.org//NONSGML kigkonsult.se iCalcreator 2.30.10//
CALSCALE:GREGORIAN
METHOD:PUBLISH
UID:e0d149c5-75cb-4592-bbaa-4d267e7f8982
X-WR-CALDESC:K-5 kids can join us on the 4th Thursday of every month for Cr
 afty Kids! Use your imagination to create a different craft at each progra
 m.
X-WR-RELCALID:571ede824b7beb4c58ffce8396c60568
X-WR-TIMEZONE:America/New_York
BEGIN:VTIMEZONE
TZID:America/New_York
BEGIN:STANDARD
TZNAME:EST
DTSTART:20261101T020000
TZOFFSETFROM:-0400
TZOFFSETTO:-0500
RDATE:20271107T020000
END:STANDARD
BEGIN:DAYLIGHT
TZNAME:EDT
DTSTART:20260308T020000
TZOFFSETFROM:-0500
TZOFFSETTO:-0400
RDATE:20270314T020000
RDATE:20280312T020000
END:DAYLIGHT
END:VTIMEZONE
BEGIN:VEVENT
UID:ebe5ef49-868d-4a5d-a9d4-578ac852cfd1
DTSTAMP:20260420T041017Z
DESCRIPTION:K-5 kids can join us on the 4th Thursday of every month for Cra
 fty Kids! Use your imagination to create a different craft at each program
 .
DTSTART;TZID=America/New_York:20270225T160000
DTEND;TZID=America/New_York:20270225T170000
LOCATION:Grottoes Branch Library\, 601 Dogwood Avenue\, Grottoes\, VA 24441
  US
SUMMARY:Crafty Kids @Grottoes Branch Library
END:VEVENT
END:VCALENDAR
